BEGIN:VCALENDAR
VERSION:2.0
PRODID:-//Pine Bridge Consultants - ECPv6.15.17.1//NONSGML v1.0//EN
CALSCALE:GREGORIAN
METHOD:PUBLISH
X-WR-CALNAME:Pine Bridge Consultants
X-ORIGINAL-URL:https://www.pinebridgeconsulting.co.ke
X-WR-CALDESC:Events for Pine Bridge Consultants
REFRESH-INTERVAL;VALUE=DURATION:PT1H
X-Robots-Tag:noindex
X-PUBLISHED-TTL:PT1H
BEGIN:VTIMEZONE
TZID:Africa/Nairobi
BEGIN:STANDARD
TZOFFSETFROM:+0300
TZOFFSETTO:+0300
TZNAME:EAT
DTSTART:20250101T000000
END:STANDARD
END:VTIMEZONE
BEGIN:VEVENT
DTSTART;TZID=Africa/Nairobi:20260720T090000
DTEND;TZID=Africa/Nairobi:20260724T163000
DTSTAMP:20260421T173737
CREATED:20260111T092705Z
LAST-MODIFIED:20260414T074914Z
UID:22202-1784538000-1784910600@www.pinebridgeconsulting.co.ke
SUMMARY:Internal Audit & Risk Assurance Training
DESCRIPTION:Internal Audit & Risk Assurance Training\nPractical\, hands-on training in internal audit and risk assurance strengthens controls\, manage risks\, and boosts compliance.\n\n\nKey details\nDate: 20 Jul 2026 – 24 Jul 2026\nVenue: Machakos\nFee: KES 90\,000 +VAT\n\nStatement of Need\nStrong internal audit and risk assurance are the backbone of effective governance\, compliance\, and organizational performance. Yet many organizations struggle to align audit practices with emerging risks\, regulatory expectations\, and strategic objectives\, leaving them exposed to financial\, operational\, and reputational setbacks. \nThis hands-on program equips professionals with practical tools\, proven methodologies\, and real-world insights to strengthen internal controls\, manage risks proactively\, and ensure compliance across all functions. Participants will learn how to identify vulnerabilities\, assess risk exposure\, and provide assurance that drives informed decision-making and operational resilience. \nBeyond technical skills\, the training sharpens your analytical and strategic mindset\, enabling you to turn audit and assurance activities into value-adding functions that protect assets\, improve processes\, and enhance stakeholder confidence. Walk away ready to deliver audit and risk assurance with impact\, credibility\, and measurable results. \nWho should attend\nInternal auditors\, risk and compliance professionals\, finance and operations managers\, quality assurance officers\, and anyone responsible for governance\, risk\, and control processes. \nLearning outcomes\n\nApply practical internal audit techniques to assess organizational controls\nEvaluate risk exposure and strengthen assurance processes\nAlign audit activities with organizational strategy and compliance requirements\nProvide actionable insights that improve decision-making and governance\nEnhance credibility and influence as a risk and audit professional\n\nFees: KES 90\,000 +VAT\n\n\nRegister Now
URL:https://www.pinebridgeconsulting.co.ke/event/internal-audit-risk-assurance-training/
CATEGORIES:Training
ATTACH;FMTTYPE=image/jpeg:https://www.pinebridgeconsulting.co.ke/wp-content/uploads/2026/01/pinebridge-events-2.jpeg
END:VEVENT
END:VCALENDAR