BEGIN:VCALENDAR
VERSION:2.0
PRODID:-//Pine Bridge Consultants - ECPv6.15.17.1//NONSGML v1.0//EN
CALSCALE:GREGORIAN
METHOD:PUBLISH
X-WR-CALNAME:Pine Bridge Consultants
X-ORIGINAL-URL:https://www.pinebridgeconsulting.co.ke
X-WR-CALDESC:Events for Pine Bridge Consultants
REFRESH-INTERVAL;VALUE=DURATION:PT1H
X-Robots-Tag:noindex
X-PUBLISHED-TTL:PT1H
BEGIN:VTIMEZONE
TZID:Africa/Nairobi
BEGIN:STANDARD
TZOFFSETFROM:+0300
TZOFFSETTO:+0300
TZNAME:EAT
DTSTART:20250101T000000
END:STANDARD
END:VTIMEZONE
BEGIN:VEVENT
DTSTART;TZID=Africa/Nairobi:20260811T090000
DTEND;TZID=Africa/Nairobi:20260813T163000
DTSTAMP:20260421T202049
CREATED:20260111T092705Z
LAST-MODIFIED:20260220T134436Z
UID:22203-1786438800-1786638600@www.pinebridgeconsulting.co.ke
SUMMARY:Fundamentals of Risk Management
DESCRIPTION:Fundamentals of Risk Management\nBuild a strong risk management foundation with IRM’s FoRM using practical tools and ISO 31000 best practices to boost decisions and resilience.\n\n\nKey details\nDate: 11 Aug 2026 – 13 Aug 2026\nVenue: Kigali\, Rwanda.\nFee: USD 890\n\nStatement of Need\nIn today’s fast-moving business environment\, organizations are challenged by shifting markets\, regulatory expectations\, emerging technologies\, and strategic uncertainty. Leaders need more than instinct; they need the confidence to make informed decisions\, anticipate threats\, and capitalize on opportunities. \nThe Fundamentals of Risk Management (FoRM) course\, developed by the Institute of Risk Management (IRM-UK)\, the world’s leading professional body for ERM education\, is designed to build this capability. The program equips professionals with practical\, internationally recognized risk management knowledge that enhances performance\, strengthens decision-making\, and supports strategic resilience across sectors. \nWhether you are new to risk or seeking to formalize your understanding\, FoRM provides a solid foundation to participate meaningfully in risk discussions and contribute to organizational value creation. \nWho should attend\nOperational and support managers\, senior executives\, risk\, audit and compliance professionals\, individuals new to or aspiring to enter the risk management profession\, practitioners seeking a refresher\, and IRM Certificate and Diploma students. \nLearning outcomes\n\nA clear understanding of key risk management concepts\, terminology\, and applications in an organisational context\nA practical risk management toolkit that can be applied immediately in their role\nExposure to best practices and shared learning through interaction with like-minded professionals\n\nFees: USD 890– covering tuition\, training materials and conference fees only.\n\n\nRegister Now
URL:https://www.pinebridgeconsulting.co.ke/event/fundamentals-of-risk-management-2/
CATEGORIES:Training
ATTACH;FMTTYPE=image/jpeg:https://www.pinebridgeconsulting.co.ke/wp-content/uploads/2026/01/Pinebridge-Consulting-Trainings-3.jpeg
END:VEVENT
BEGIN:VEVENT
DTSTART;TZID=Africa/Nairobi:20260824T090000
DTEND;TZID=Africa/Nairobi:20260828T163000
DTSTAMP:20260421T202049
CREATED:20260111T092706Z
LAST-MODIFIED:20260414T075436Z
UID:22204-1787562000-1787934600@www.pinebridgeconsulting.co.ke
SUMMARY:Enterprise Risk Solutions For Saccos
DESCRIPTION:Enterprise Risk Solutions For Saccos\nProtect your institution from fraud\, defaults\, and compliance pitfalls\n\n\nKey details\nDate: 24 Aug 2026 – 28 Aug 2026\nVenue: Nairobi\nFee: KES 90\,000 + VAT\n\nStatement of Need\nSaccos operate in a high-stakes environment where emerging risks\, regulatory demands\, and operational pressures can quickly escalate into significant financial and reputational losses. Fraud\, loan defaults\, liquidity challenges\, and compliance gaps are constant threats that require not just awareness\, but strategic\, proactive management. \nThis program offers a comprehensive\, practical approach to enterprise risk management for the financial sector. Participants will learn how to anticipate\, identify\, and mitigate key risks while aligning risk management with organizational strategy. Through real-world case studies\, actionable frameworks\, and sector-specific insights\, the training equips leaders to safeguard assets\, protect member and customer trust\, and enhance organizational resilience. \nThe course also emphasizes turning risk into opportunity. Beyond minimizing threats\, you will gain skills to leverage risk intelligence for better decision-making\, competitive advantage\, and sustainable growth. \nWho should attend\nBanking and finance professionals\, risk managers\, compliance officers\, internal auditors\, operational leaders\, and senior managers from SACCOs\, microfinance institutions\, credit unions\, and other financial sector organizations seeking to strengthen risk management. \nLearning outcomes\n\nBy the end of the program\, participants will be able to:\nIdentify and assess key financial sector risks\, including fraud\, defaults\, liquidity\, and regulatory compliance\nDesign and implement effective risk mitigation strategies\nStrengthen internal controls and governance frameworks\nBuild a culture of risk awareness across teams and operations\nEnhance decision-making and safeguard organizational and member assets\n\nFees: KES 90\,000 + VAT — covering tuition\, training materials\, and conference fees only.\n\n\nRegister Now
URL:https://www.pinebridgeconsulting.co.ke/event/enterprise-risk-solutions-for-saccos/
CATEGORIES:Training
ATTACH;FMTTYPE=image/jpeg:https://www.pinebridgeconsulting.co.ke/wp-content/uploads/2026/01/pinebridge-events-3.jpeg
END:VEVENT
END:VCALENDAR