BEGIN:VCALENDAR
VERSION:2.0
PRODID:-//Pine Bridge Consultants - ECPv6.15.17.1//NONSGML v1.0//EN
CALSCALE:GREGORIAN
METHOD:PUBLISH
X-WR-CALNAME:Pine Bridge Consultants
X-ORIGINAL-URL:https://www.pinebridgeconsulting.co.ke
X-WR-CALDESC:Events for Pine Bridge Consultants
REFRESH-INTERVAL;VALUE=DURATION:PT1H
X-Robots-Tag:noindex
X-PUBLISHED-TTL:PT1H
BEGIN:VTIMEZONE
TZID:Africa/Nairobi
BEGIN:STANDARD
TZOFFSETFROM:+0300
TZOFFSETTO:+0300
TZNAME:EAT
DTSTART:20250101T000000
END:STANDARD
END:VTIMEZONE
BEGIN:VEVENT
DTSTART;TZID=Africa/Nairobi:20261102T090000
DTEND;TZID=Africa/Nairobi:20261106T163000
DTSTAMP:20260422T002659
CREATED:20260111T092722Z
LAST-MODIFIED:20260209T062954Z
UID:22207-1793610000-1793982600@www.pinebridgeconsulting.co.ke
SUMMARY:Fraud Risk Management Training
DESCRIPTION:Fraud Risk Management Training\nTransform your approach to fraud: from reactive detection to proactive prevention and resilience.\n\n\nKey details\nDate: 02 Nov 2026 – 06 Nov 2026\nVenue: Nairobi\nFee: KES 90\,000 + VAT\n\nStatement of Need\nFraud continues to pose a significant threat to organizations\, draining financial resources\, damaging reputations\, and undermining stakeholder trust. Traditional reactive approaches are no longer sufficient; today’s environment demands proactive\, strategic\, and integrated fraud risk management. \nThis program equips participants with practical tools\, methodologies\, and insights to identify\, prevent\, and mitigate fraud risks effectively. Through real-world case studies\, hands-on exercises\, and actionable frameworks\, participants will learn to detect vulnerabilities\, strengthen internal controls\, and implement preventative strategies that safeguard organizational value. \nBeyond detection\, the course emphasizes building organizational resilience against fraud. Participants will gain the skills to foster a culture of integrity\, embed fraud risk awareness into decision-making\, and transform fraud management from a compliance obligation into a strategic advantage. \nWho should attend\nRisk managers\, compliance and internal audit professionals\, finance and operations leaders\, fraud investigators\, and senior managers responsible for protecting assets\, ensuring integrity\, and strengthening organizational controls across private\, public\, and financial institutions. \nLearning outcomes\n\nBy the end of the program\, participants will be able to:\nIdentify\, assess\, and prioritize fraud risks within their organization\nDevelop and implement effective fraud prevention and mitigation strategies\nStrengthen internal controls and governance to reduce fraud exposure\nEmbed a culture of integrity and fraud awareness across teams\nEnhance organizational resilience and protect stakeholder value\n\nFees: KES 90\,000 + VAT\n\n\n\nRegister Now
URL:https://www.pinebridgeconsulting.co.ke/event/fraud-risk-management-training/
CATEGORIES:Training
END:VEVENT
END:VCALENDAR