BEGIN:VCALENDAR
VERSION:2.0
PRODID:-//Pine Bridge Consultants - ECPv6.15.17.1//NONSGML v1.0//EN
CALSCALE:GREGORIAN
METHOD:PUBLISH
X-WR-CALNAME:Pine Bridge Consultants
X-ORIGINAL-URL:https://www.pinebridgeconsulting.co.ke
X-WR-CALDESC:Events for Pine Bridge Consultants
REFRESH-INTERVAL;VALUE=DURATION:PT1H
X-Robots-Tag:noindex
X-PUBLISHED-TTL:PT1H
BEGIN:VTIMEZONE
TZID:Africa/Nairobi
BEGIN:STANDARD
TZOFFSETFROM:+0300
TZOFFSETTO:+0300
TZNAME:EAT
DTSTART:20250101T000000
END:STANDARD
END:VTIMEZONE
BEGIN:VEVENT
DTSTART;TZID=Africa/Nairobi:20260609T090000
DTEND;TZID=Africa/Nairobi:20260612T163000
DTSTAMP:20260421T215949
CREATED:20260111T092705Z
LAST-MODIFIED:20260220T134536Z
UID:22201-1780995600-1781281800@www.pinebridgeconsulting.co.ke
SUMMARY:Effective Risk Leadership
DESCRIPTION:Effective Risk Leadership\nA practical course equipping leaders to align risk with strategy\, strengthen decision-making\, and build resilient\, risk-aware organisations.\n\n\nKey details\nDate: 09 Jun 2026 – 12 Jun 2026\nVenue: Mombasa\nFee: KES 90\,000\n+ VAT\n\nStatement of Need\nOrganizations are operating in environments defined by complexity\, uncertainty\, and rapid change. In such contexts\, leaders must go beyond compliance-based approaches to risk and adopt a strategic view that aligns risk with performance\, decision-making\, and long-term value creation. \nEffective Risk Leadership empowers executives and managers to anticipate risk\, interpret uncertainty\, make informed choices under pressure\, and drive organizational resilience. By strengthening leadership capabilities around risk\, organisations enhance strategy execution\, protect value\, and position themselves for sustainable growth. \nWho should attend\nSenior and middle-level executives\, strategy leaders\, risk managers\, functional heads\, and professionals involved in strategic planning\, governance\, and performance oversight. \nLearning outcomes\n\nAt the end of the program\, participants will be able to:\nUnderstand the role of risk leadership in strategy and value creation\nStrengthen decision-making under uncertainty and complexity\nIntegrate risk insights into planning\, execution\, and performance discussions\nBuild organisational resilience through effective governance and risk culture\nChampion risk-aware thinking across teams and strategic functions\n\nFees: KES 90\,000\n+ VAT\n\n\nRegister Now
URL:https://www.pinebridgeconsulting.co.ke/event/effective-risk-leadership/
CATEGORIES:Training
ATTACH;FMTTYPE=image/jpeg:https://www.pinebridgeconsulting.co.ke/wp-content/uploads/2026/01/Pinebridge-Consulting-Trainings-15.jpeg
END:VEVENT
BEGIN:VEVENT
DTSTART;TZID=Africa/Nairobi:20260601T090000
DTEND;TZID=Africa/Nairobi:20260605T163000
DTSTAMP:20260421T215949
CREATED:20260111T092705Z
LAST-MODIFIED:20260220T134644Z
UID:22200-1780304400-1780677000@www.pinebridgeconsulting.co.ke
SUMMARY:Advanced Risk Management
DESCRIPTION:Advanced Risk Management\nMaster advanced risk tools to anticipate threats\, strengthen resilience\, and drive confident\, strategic decision-making\n\n\nKey details\nDate: 01 Jun 2026 – 05 Jun 2026\nVenue: Mombasa\nFee: KES 90\,000 +VAT\n\nStatement of Need\nOrganizations today face increasingly complex and interconnected risks that can disrupt operations\, erode value\, and threaten strategic objectives. While understanding risk at a basic level is essential\, true organizational resilience requires the ability to anticipate emerging threats\, evaluate their impact\, and act decisively before they materialize. \nThe Advanced Risk Management course equips professionals with cutting-edge risk assessment tools\, analytical frameworks\, and strategic methodologies to move beyond reactive risk management. Participants will gain practical skills to identify\, prioritize\, and mitigate risks\, while embedding a culture of informed\, confident decision-making across their organizations. \nThis program is designed for those who want to elevate risk management from a compliance exercise to a strategic capability\, enabling their organizations to not only survive uncertainty but leverage it as an opportunity for growth and innovation. \nWho should attend\nRisk managers\, compliance and audit professionals\, senior executives\, operational leaders\, project managers\, and professionals responsible for organizational risk\, resilience\, and decision-making. \nLearning outcomes\n\nBy the end of the program\, participants will be able to:\nApply advanced risk management frameworks and methodologies to real-world scenarios\nConduct sophisticated risk assessments\, including scenario analysis and stress testing\nPrioritize and mitigate complex risks that could impact strategic objectives\nEmbed proactive risk culture and decision-making in their teams\nStrengthen organizational resilience and improve confidence in strategic choices\n\nFees: KES 90\,000 + VAT — covering tuition\, training materials\, and conference fees only.\n\n\nRegister Now
URL:https://www.pinebridgeconsulting.co.ke/event/advanced-risk-management/
CATEGORIES:Training
ATTACH;FMTTYPE=image/jpeg:https://www.pinebridgeconsulting.co.ke/wp-content/uploads/2026/01/Pinebridge-Consulting-Trainings-11.jpeg
END:VEVENT
BEGIN:VEVENT
DTSTART;TZID=Africa/Nairobi:20260525T090000
DTEND;TZID=Africa/Nairobi:20260527T163000
DTSTAMP:20260421T215949
CREATED:20260111T092658Z
LAST-MODIFIED:20260220T134727Z
UID:22199-1779699600-1779899400@www.pinebridgeconsulting.co.ke
SUMMARY:Effective Board Leadership – In-house Course
DESCRIPTION:Effective Board Leadership – In-house Course\nEquip your board to lead with clarity\, accountability\, and impact\n\n\nKey details\nDate: 25 May 2026 – 27 May 2026\nVenue: Naivasha\nFee: KES 95\,000 +VAT\n\nStatement of Need\nBoards are the ultimate drivers of organizational success\, yet the difference between a high-performing board and an underperforming one often comes down to clarity\, cohesion\, and strategic insight. Effective governance is not just about oversight it’s about shaping vision\, influencing culture\, and steering the organization confidently through risk and opportunity. \nThe Effective Board Leadership course equips board members with practical tools\, proven frameworks\, and real-world scenarios to strengthen decision-making\, accountability\, and impact. Through interactive learning and experiential exercises\, participants gain the confidence to challenge assumptions\, foster constructive dialogue\, and translate strategy into measurable outcomes. \nBy participating\, boards unlock the ability to move from compliance-driven governance to strategic leadership\, ensuring they create lasting value\, maintain stakeholder trust\, and drive organizational excellence. \nWho should attend\nBoard members\, board committee members\, executive directors\, company secretaries\, senior leadership teams supporting board functions\, and individuals preparing for board appointments. \nLearning outcomes\n\nBy the end of the program\, participants will be able to:\nUnderstand the evolving role\, duties\, and legal responsibilities of boards in modern governance\nStrengthen strategic oversight of organizational performance\, risk\, and compliance\nBuild effective board-management engagement and communication channels\nEnhance decision-making\, accountability\, and governance culture\nImprove board dynamics\, cohesion\, and collective effectiveness for tangible organizational impact\n\nFees: KES 95\,000 + VAT — covering tuition\, training materials\, and conference fees only.\n\n\nRegister Now
URL:https://www.pinebridgeconsulting.co.ke/event/effective-board-leadership-in-house-course/
CATEGORIES:Training
ATTACH;FMTTYPE=image/jpeg:https://www.pinebridgeconsulting.co.ke/wp-content/uploads/2026/01/Pinebridge-Consulting-Trainings-14.jpeg
END:VEVENT
BEGIN:VEVENT
DTSTART;TZID=Africa/Nairobi:20260420T090000
DTEND;TZID=Africa/Nairobi:20260424T163000
DTSTAMP:20260421T215949
CREATED:20260111T092658Z
LAST-MODIFIED:20260326T061258Z
UID:22198-1776675600-1777048200@www.pinebridgeconsulting.co.ke
SUMMARY:Business Continuity Management BCMS Training
DESCRIPTION:Business Continuity Management BCMS Training\nA practical course to help you build real-world resilience with hands-on BCMS training to minimise risks and maximise continuity.\n\n\nKey details\nDate: 20 Apr 2026 – 24 Apr 2026\nVenue: Machakos\nFee: KES 90\,000 + VAT\n\nStatement of Need\nOperational disruptions are becoming more frequent and more costly\, whether triggered by cyber incidents\, supply chain volatility\, regulatory shifts\, or environmental events. Organizations that cannot maintain continuity risk financial loss\, reputational damage\, and strategic setbacks that can take months or years to recover from. \nThis BCMS training empowers organizations to stay operational when it matters most. Participants learn how to identify critical processes\, protect essential services\, and activate structured recovery plans so the business can continue serving customers\, safeguarding revenue\, and maintaining stakeholder confidence during disruption. The program transforms business continuity from a compliance requirement into a strategic advantage. \nWho should attend\nBusiness continuity and resilience professionals\, operations leaders\, ICT and security teams\, risk and compliance practitioners\, facilities managers\, incident response teams\, and individuals seeking to build capability in organizational resilience and business continuity planning. \nLearning outcomes\n\nUnderstand key BCMS concepts\, terminology\, and standards\nConduct business impact analysis (BIA) and risk assessments for continuity planning\nDevelop and implement business continuity plans and strategies\nCoordinate incident response\, recovery\, and crisis communication mechanisms\nStrengthen organizational resilience through practical BCMS exercises and preparedness\n\nFees: KES 90\,000 + VAT\n\n\nRegister Now
URL:https://www.pinebridgeconsulting.co.ke/event/business-continuity-management-bcms-training/
CATEGORIES:Training
ATTACH;FMTTYPE=image/jpeg:https://www.pinebridgeconsulting.co.ke/wp-content/uploads/2026/01/Pinebridge-Consulting-Trainings-10.jpeg
END:VEVENT
BEGIN:VEVENT
DTSTART;TZID=Africa/Nairobi:20260324T090000
DTEND;TZID=Africa/Nairobi:20260326T163000
DTSTAMP:20260421T215949
CREATED:20260111T092658Z
LAST-MODIFIED:20260220T140019Z
UID:22197-1774342800-1774542600@www.pinebridgeconsulting.co.ke
SUMMARY:Fundamentals of Risk Management
DESCRIPTION:Fundamentals of Risk Management\nBuild a strong risk management foundation with IRM’s FoRM using practical tools and ISO 31000 best practices to boost decisions and resilience.\n\n\nKey details\nDate: 24 Mar 2026 – 26 Mar 2026\nVenue: Nairobi\nFee: KES 75\,000 +VAT\n\nStatement of Need\nIn today’s fast-moving business environment\, organizations are challenged by shifting markets\, regulatory expectations\, emerging technologies\, and strategic uncertainty. Leaders need more than instinct; they need the confidence to make informed decisions\, anticipate threats\, and capitalize on opportunities. \nThe Fundamentals of Risk Management (FoRM) course\, developed by the Institute of Risk Management (IRM-UK)\, the world’s leading professional body for ERM education\, is designed to build this capability. The program equips professionals with practical\, internationally recognized risk management knowledge that enhances performance\, strengthens decision-making\, and supports strategic resilience across sectors. \nWhether you are new to risk or seeking to formalize your understanding\, FoRM provides a solid foundation to participate meaningfully in risk discussions and contribute to organizational value creation. \nWho should attend\nOperational and support managers\, senior executives\, risk\, audit and compliance professionals\, individuals new to or aspiring to enter the risk management profession\, practitioners seeking a refresher\, and IRM Certificate and Diploma students. \nLearning outcomes\n\nA clear understanding of key risk management concepts\, terminology\, and applications in an organisational context\nA practical risk management toolkit that can be applied immediately in their role\nExposure to best practices and shared learning through interaction with like-minded professionals\n\nFees: KES 75\,000 + VAT – covering tuition\, training materials and conference fees only.\n\n\nRegister Now
URL:https://www.pinebridgeconsulting.co.ke/event/fundamentals-of-risk-management/
CATEGORIES:Training
ATTACH;FMTTYPE=image/jpeg:https://www.pinebridgeconsulting.co.ke/wp-content/uploads/2026/01/Pinebridge-Consulting-Trainings-2.jpeg
END:VEVENT
BEGIN:VEVENT
DTSTART;TZID=Africa/Nairobi:20260312T100000
DTEND;TZID=Africa/Nairobi:20260312T164500
DTSTAMP:20260421T215949
CREATED:20260324T073336Z
LAST-MODIFIED:20260324T075400Z
UID:22347-1773309600-1773333900@www.pinebridgeconsulting.co.ke
SUMMARY:Emerging Behavioural Risks: Why Culture is the New Control
DESCRIPTION:Emerging Behavioural Risks: Why Culture is the New Control\nYour Biggest Risk Isn’t in the Register – It’s in the Culture\n\n\nKey details\nDate: 12th March 2026\nTime: 10:00am – 10:45am\nVenue: Online (Webinar)\nSpeakers: Samuel Kibaara\, CFIRM & Kenneth Muchiri\, IRM Cert\, CPA (K)\n\nStatement of Need\n“Culture eats strategy for breakfast\,” Peter Drucker. No matter how robust your risk management policies or processes are\, they will fail if your organization lacks a risk-aware culture. Employees may overlook emerging risks\, bypass controls\, or make decisions that undermine strategic objectives. \nThis program\, Culture: The Missing Link in Risk Management\, empowers managers and risk professionals to embed risk awareness into everyday behaviours\, translate policy into practice\, and build a culture where proactive risk management drives better decisions\, accountability\, and organizational resilience. \nWho should attend\nMiddle and senior-level managers\, risk officers\, compliance officers\, and professionals responsible for implementing or overseeing risk management processes. \nLearning outcomes\n\nUnderstand the key elements of a risk-aware culture and why it matters\nAssess organizational behaviours and mindsets that influence risk management\nTranslate risk policies into practical actions and day-to-day decision-making\nDesign interventions to strengthen risk ownership and accountability\nPromote a culture where risk awareness is integrated across teams and functions.\n\n\n\nRegister Now
URL:https://www.pinebridgeconsulting.co.ke/event/emerging-behavioural-risks-why-culture-is-the-new-control/
CATEGORIES:Training
ATTACH;FMTTYPE=image/jpeg:https://www.pinebridgeconsulting.co.ke/wp-content/uploads/2026/02/WhatsApp-Image-2026-02-17-at-12.30.52.jpeg
END:VEVENT
BEGIN:VEVENT
DTSTART;TZID=Africa/Nairobi:20260224T090000
DTEND;TZID=Africa/Nairobi:20260226T163000
DTSTAMP:20260421T215949
CREATED:20260111T092658Z
LAST-MODIFIED:20260209T063633Z
UID:22196-1771923600-1772123400@www.pinebridgeconsulting.co.ke
SUMMARY:Managing Project Risks
DESCRIPTION:Managing Project Risks\nMaster practical techniques to assess\, control\, and minimise project risks\, driving reliable and successful project outcomes\n\n\nKey details\nDate: 24 Feb 2026 – 26 Feb 2026\nVenue: Naivasha\nFee: KES 70\,000 + VAT\n\nStatement of Need\nEffective project delivery requires more than careful planning; it demands a proactive and disciplined approach to identifying\, assessing\, and managing risks that could derail timelines\, budgets\, or outcomes. Organisations frequently encounter unforeseen project risks\, resulting in cost overruns\, delays\, or failure to achieve objectives. \nThis program equips you with proven\, practical tools and techniques to systematically assess\, control\, and mitigate risks\, enabling you to deliver projects with confidence and consistency. By mastering these approaches\, you will enhance project resilience\, improve decision-making\, and increase the likelihood of successful outcomes across all your projects. \nWho should attend\nMiddle and senior-level project managers\, project team leaders\, risk managers\, and professionals involved in project planning and delivery. \nLearning outcomes\n\nIdentify and categorize project risks across different project phases\nApply practical risk assessment and prioritization techniques\nDevelop and implement risk response and mitigation plans\nMonitor and control project risks to ensure successful delivery\nIntegrate risk management practices into standard project management processes\n\nFees: KES 70\,000 + VAT – covering tuition\, training materials and conference fees only.\n\n\nRegister Now
URL:https://www.pinebridgeconsulting.co.ke/event/managing-project-risks/
CATEGORIES:Training
END:VEVENT
BEGIN:VEVENT
DTSTART;TZID=Africa/Nairobi:20260210T090000
DTEND;TZID=Africa/Nairobi:20260212T163000
DTSTAMP:20260421T215949
CREATED:20260111T092657Z
LAST-MODIFIED:20260209T063651Z
UID:22195-1770714000-1770913800@www.pinebridgeconsulting.co.ke
SUMMARY:Culture: The Missing Link in Risk Management
DESCRIPTION:Culture: The Missing Link in Risk Management\nBuilding a Risk-Aware Culture\, From Policy to Practice\n\n\nKey details\nDate: 10 Feb 2026 – 12 Feb 2026\nVenue: Machakos\nFee: KES 75\,000 + VAT\n\nStatement of Need\n“Culture eats strategy for breakfast\,” Peter Drucker. No matter how robust your risk management policies or processes are\, they will fail if your organization lacks a risk-aware culture. Employees may overlook emerging risks\, bypass controls\, or make decisions that undermine strategic objectives. \nThis program\, Culture: The Missing Link in Risk Management\, empowers managers and risk professionals to embed risk awareness into everyday behaviours\, translate policy into practice\, and build a culture where proactive risk management drives better decisions\, accountability\, and organizational resilience. \nWho should attend\nMiddle and senior-level managers\, risk officers\, compliance officers\, and professionals responsible for implementing or overseeing risk management processes. \nLearning outcomes\n\nUnderstand the key elements of a risk-aware culture and why it matters\nAssess organizational behaviours and mindsets that influence risk management\nTranslate risk policies into practical actions and day-to-day decision-making\nDesign interventions to strengthen risk ownership and accountability\nPromote a culture where risk awareness is integrated across teams and functions.\n\nFees: KES 75\,000 + VAT – covering tuition\, training materials and conference fees only.\n\n\nRegister Now
URL:https://www.pinebridgeconsulting.co.ke/event/culture-the-missing-link-in-risk-management/
LOCATION:Machakos\, Machakos\, Kenya
CATEGORIES:Training
ATTACH;FMTTYPE=image/jpeg:https://www.pinebridgeconsulting.co.ke/wp-content/uploads/2026/01/PinebridgeCulture.jpeg
END:VEVENT
END:VCALENDAR